BEGIN:VCALENDAR
VERSION:2.0
PRODID:-//Tukios.com/
BEGIN:VEVENT
UID:8cd7aea4-37c3-41b2-a5f1-34ea3928adcd@www.richardfuneralservices.com
DTSTAMP:20260425T224347Z
DTSTART:20260504T150000Z
DTEND:20260504T153000Z
SUMMARY:Burial
DESCRIPTION:
URL:https://www.richardfuneralservices.com/obituaries/robert-shealey-jr
LOCATION: 6502 SW 102nd Avenue  Bushnell FL 33513
GEO:28.607685;-82.2108001
END:VEVENT
END:VCALENDAR