BEGIN:VCALENDAR
VERSION:2.0
PRODID:-//Tukios.com/
BEGIN:VEVENT
UID:cb222f9c-3141-4cee-9657-4f8e02e43d49@www.richardfuneralservices.com
DTSTAMP:20260425T223847Z
DTSTART:20260502T150000Z
DTEND:20260502T163000Z
SUMMARY:Celebration of Life
DESCRIPTION:
URL:https://www.richardfuneralservices.com/obituaries/robert-shealey-jr
LOCATION: 821 S Kirkman Rd  Orlando FL 32811
GEO:28.531532;-81.4571661
END:VEVENT
END:VCALENDAR