BEGIN:VCALENDAR
VERSION:2.0
PRODID:-//Tukios.com/
BEGIN:VEVENT
UID:53596b9c-3bcc-451b-9d62-2285db5d38cc@www.richardfuneralservices.com
DTSTAMP:20260425T224304Z
DTSTART:20260501T210000Z
DTEND:20260501T230000Z
SUMMARY:Visitation
DESCRIPTION:
URL:https://www.richardfuneralservices.com/obituaries/robert-shealey-jr
LOCATION:Majestic Life Church 821 S Kirkman Rd  Orlando FL 32811
GEO:28.531532;-81.4571661
END:VEVENT
END:VCALENDAR