BEGIN:VCALENDAR
VERSION:2.0
PRODID:-//Tukios.com/
BEGIN:VEVENT
UID:ec79c9f2-853f-4488-88df-94ea746944d1@www.richardfuneralservices.com
DTSTAMP:20260421T214317Z
DTSTART:20260423T211500Z
DTEND:20260423T213000Z
SUMMARY:Burial
DESCRIPTION:
URL:https://www.richardfuneralservices.com/obituaries/israel-nieves
LOCATION: 2646 E. Grace Avenue  Haines City FL 33844
GEO:28.0974805;-81.6124128
END:VEVENT
END:VCALENDAR