BEGIN:VCALENDAR
VERSION:2.0
PRODID:-//Tukios.com/
BEGIN:VEVENT
UID:9165dbed-0740-4296-85e5-40279aa792d7@www.richardfuneralservices.com
DTSTAMP:20260421T214205Z
DTSTART:20260423T160000Z
DTEND:20260423T210000Z
SUMMARY:Visitation
DESCRIPTION:
URL:https://www.richardfuneralservices.com/obituaries/israel-nieves
LOCATION: 233 N. 9th Street  Haines City FL 33844
GEO:28.1106437;-81.6239063
END:VEVENT
END:VCALENDAR