BEGIN:VCALENDAR
VERSION:2.0
PRODID:-//Tukios.com/
BEGIN:VEVENT
UID:ee593ee2-9c61-4aa6-ac71-eee3263cf31a@www.richardfuneralservices.com
DTSTAMP:20260421T043121Z
DTSTART:20260426T173000Z
DTEND:20260426T174500Z
SUMMARY:Interment
DESCRIPTION:
URL:https://www.richardfuneralservices.com/obituaries/aretha-mcdonald
LOCATION: 1615 Old Boggy Creek Road  Kissimmee FL 34744
GEO:28.3062547;-81.3763734
END:VEVENT
END:VCALENDAR