BEGIN:VCALENDAR
VERSION:2.0
PRODID:-//Tukios.com/
BEGIN:VEVENT
UID:d1550a0a-8659-4667-aad7-b2b5c625286d@www.richardfuneralservices.com
DTSTAMP:20260421T043059Z
DTSTART:20260426T143000Z
DTEND:20260426T170000Z
SUMMARY:Funeral Service
DESCRIPTION:
URL:https://www.richardfuneralservices.com/obituaries/aretha-mcdonald
LOCATION: 4948 Old Pleasant Hill Rd  Kissimmee FL 34759
GEO:28.1354425;-81.4508586
END:VEVENT
END:VCALENDAR