BEGIN:VCALENDAR
VERSION:2.0
PRODID:-//Tukios.com/
BEGIN:VEVENT
UID:8f0b0a36-e648-4d2a-bc27-c9982348b6a7@www.richardfuneralservices.com
DTSTAMP:20260421T042952Z
DTSTART:20260426T130000Z
DTEND:20260426T143000Z
SUMMARY:Visitation
DESCRIPTION:
URL:https://www.richardfuneralservices.com/obituaries/aretha-mcdonald
LOCATION: 4948 Old Pleasant Hill Rd  Kissimmee FL 34759
GEO:28.1354425;-81.4508586
END:VEVENT
END:VCALENDAR